BEGIN:VCALENDAR
VERSION:2.0
PRODID:-//HFSE Global Education Group - ECPv6.15.17.1//NONSGML v1.0//EN
CALSCALE:GREGORIAN
METHOD:PUBLISH
X-WR-CALNAME:HFSE Global Education Group
X-ORIGINAL-URL:https://hfse.edu.sg
X-WR-CALDESC:Events for HFSE Global Education Group
REFRESH-INTERVAL;VALUE=DURATION:PT1H
X-Robots-Tag:noindex
X-PUBLISHED-TTL:PT1H
BEGIN:VTIMEZONE
TZID:Asia/Singapore
BEGIN:STANDARD
TZOFFSETFROM:+0800
TZOFFSETTO:+0800
TZNAME:+08
DTSTART:20250101T000000
END:STANDARD
END:VTIMEZONE
BEGIN:VEVENT
DTSTART;TZID=Asia/Singapore:20260320T190000
DTEND;TZID=Asia/Singapore:20260320T220000
DTSTAMP:20260420T130229
CREATED:20260316T142444Z
LAST-MODIFIED:20260316T144547Z
UID:10000001-1774033200-1774044000@hfse.edu.sg
SUMMARY:Beterinaryo SGHapi Hall
DESCRIPTION:POC: Sir Andy | No. of Pax: 30
URL:https://hfse.edu.sg/event/beterinaryo-sg/
LOCATION:Hapi Hall
CATEGORIES:Hapi Hall
END:VEVENT
END:VCALENDAR