BEGIN:VCALENDAR
VERSION:2.0
PRODID:-//HFSE Global Education Group - ECPv6.15.17.1//NONSGML v1.0//EN
CALSCALE:GREGORIAN
METHOD:PUBLISH
X-WR-CALNAME:HFSE Global Education Group
X-ORIGINAL-URL:https://hfse.edu.sg
X-WR-CALDESC:Events for HFSE Global Education Group
REFRESH-INTERVAL;VALUE=DURATION:PT1H
X-Robots-Tag:noindex
X-PUBLISHED-TTL:PT1H
BEGIN:VTIMEZONE
TZID:Asia/Singapore
BEGIN:STANDARD
TZOFFSETFROM:+0800
TZOFFSETTO:+0800
TZNAME:+08
DTSTART:20250101T000000
END:STANDARD
END:VTIMEZONE
BEGIN:VEVENT
DTSTART;TZID=Asia/Singapore:20260418T180000
DTEND;TZID=Asia/Singapore:20260418T210000
DTSTAMP:20260420T074415
CREATED:20260317T002912Z
LAST-MODIFIED:20260317T002912Z
UID:10000011-1776535200-1776546000@hfse.edu.sg
SUMMARY:UAPP6 Grit
DESCRIPTION:POC: Ms. Dang | No. of Pax: 40
URL:https://hfse.edu.sg/event/uapp6-grit/
CATEGORIES:P6 Grit
END:VEVENT
BEGIN:VEVENT
DTSTART;TZID=Asia/Singapore:20260418T090000
DTEND;TZID=Asia/Singapore:20260418T170000
DTSTAMP:20260420T074415
CREATED:20260317T002748Z
LAST-MODIFIED:20260317T002748Z
UID:10000010-1776502800-1776531600@hfse.edu.sg
SUMMARY:ToastmastersHapi Hall
DESCRIPTION:POC: Ms. Affee | No. of Pax: 60
URL:https://hfse.edu.sg/event/toastmastershapi-hall-2/
CATEGORIES:Hapi Hall
END:VEVENT
BEGIN:VEVENT
DTSTART;TZID=Asia/Singapore:20260412T133000
DTEND;TZID=Asia/Singapore:20260412T160000
DTSTAMP:20260420T074415
CREATED:20260317T002653Z
LAST-MODIFIED:20260317T002653Z
UID:10000009-1776000600-1776009600@hfse.edu.sg
SUMMARY:FeastHapi Hall
DESCRIPTION:POC: Ms. Jill | No. of Pax: 50
URL:https://hfse.edu.sg/event/feasthapi-hall-2/
CATEGORIES:Hapi Hall
END:VEVENT
BEGIN:VEVENT
DTSTART;TZID=Asia/Singapore:20260411T180000
DTEND;TZID=Asia/Singapore:20260411T210000
DTSTAMP:20260420T074415
CREATED:20260317T001941Z
LAST-MODIFIED:20260317T001957Z
UID:10000008-1775930400-1775941200@hfse.edu.sg
SUMMARY:UAPP4 Trust/P6 Grit
DESCRIPTION:POC: Ms. Dang | No. of Pax: 70
URL:https://hfse.edu.sg/event/uapp4-trust-p6-grit-2/
CATEGORIES:P4 Trust,P6 Grit
END:VEVENT
BEGIN:VEVENT
DTSTART;TZID=Asia/Singapore:20260411T090000
DTEND;TZID=Asia/Singapore:20260411T170000
DTSTAMP:20260420T074415
CREATED:20260317T001813Z
LAST-MODIFIED:20260317T001813Z
UID:10000007-1775898000-1775926800@hfse.edu.sg
SUMMARY:ToastmastersHapi Hall
DESCRIPTION:POC: Ms. Affee | No. of Pax: 60
URL:https://hfse.edu.sg/event/toastmastershapi-hall/
CATEGORIES:Hapi Hall
END:VEVENT
BEGIN:VEVENT
DTSTART;TZID=Asia/Singapore:20260404T180000
DTEND;TZID=Asia/Singapore:20260404T210000
DTSTAMP:20260420T074415
CREATED:20260317T001527Z
LAST-MODIFIED:20260317T001527Z
UID:10000006-1775325600-1775336400@hfse.edu.sg
SUMMARY:UAPP4 Trust/P6 Grit
DESCRIPTION:POC: Ms. Dang | No. of Pax: 70
URL:https://hfse.edu.sg/event/uapp4-trust-p6-grit/
CATEGORIES:P4 Trust,P6 Grit
END:VEVENT
BEGIN:VEVENT
DTSTART;TZID=Asia/Singapore:20260328T130000
DTEND;TZID=Asia/Singapore:20260328T170000
DTSTAMP:20260420T074415
CREATED:20260317T001140Z
LAST-MODIFIED:20260317T001140Z
UID:10000005-1774702800-1774717200@hfse.edu.sg
SUMMARY:ToastmastersP4 Trust/P6 Grit
DESCRIPTION:POC: Ms. Affee | No. of Pax: 60
URL:https://hfse.edu.sg/event/toastmastersp4-trust-p6-grit/
CATEGORIES:P4 Trust,P6 Grit
END:VEVENT
BEGIN:VEVENT
DTSTART;TZID=Asia/Singapore:20260328T083000
DTEND;TZID=Asia/Singapore:20260328T180000
DTSTAMP:20260420T074415
CREATED:20260317T000511Z
LAST-MODIFIED:20260317T000734Z
UID:10000004-1774686600-1774720800@hfse.edu.sg
SUMMARY:UAPHapi Hall
DESCRIPTION:POC: Ms. Dang | No. of Pax: 60
URL:https://hfse.edu.sg/event/uaphapi-hall/
CATEGORIES:Hapi Hall
END:VEVENT
BEGIN:VEVENT
DTSTART;TZID=Asia/Singapore:20260322T133000
DTEND;TZID=Asia/Singapore:20260322T160000
DTSTAMP:20260420T074415
CREATED:20260316T234241Z
LAST-MODIFIED:20260317T000851Z
UID:10000003-1774186200-1774195200@hfse.edu.sg
SUMMARY:FeastHapi Hall
DESCRIPTION:POC: Ms. Jill | No. of Pax: 50
URL:https://hfse.edu.sg/event/feasthapi-hall/
CATEGORIES:Hapi Hall
END:VEVENT
BEGIN:VEVENT
DTSTART;TZID=Asia/Singapore:20260322T090000
DTEND;TZID=Asia/Singapore:20260322T180000
DTSTAMP:20260420T074415
CREATED:20260316T142750Z
LAST-MODIFIED:20260317T001001Z
UID:10000002-1774170000-1774202400@hfse.edu.sg
SUMMARY:ALSEP4 Trust
DESCRIPTION:POC: Ms. Sherel | No. of Pax: 35
URL:https://hfse.edu.sg/event/alsep4-trust/
CATEGORIES:P4 Trust
END:VEVENT
BEGIN:VEVENT
DTSTART;TZID=Asia/Singapore:20260320T190000
DTEND;TZID=Asia/Singapore:20260320T220000
DTSTAMP:20260420T074415
CREATED:20260316T142444Z
LAST-MODIFIED:20260316T144547Z
UID:10000001-1774033200-1774044000@hfse.edu.sg
SUMMARY:Beterinaryo SGHapi Hall
DESCRIPTION:POC: Sir Andy | No. of Pax: 30
URL:https://hfse.edu.sg/event/beterinaryo-sg/
LOCATION:Hapi Hall
CATEGORIES:Hapi Hall
END:VEVENT
END:VCALENDAR